BEGIN:VCALENDAR
VERSION:2.0
PRODID:-//HF-Bioenergetik - ECPv5.8.0//NONSGML v1.0//EN
CALSCALE:GREGORIAN
METHOD:PUBLISH
X-WR-CALNAME:HF-Bioenergetik
X-ORIGINAL-URL:https://www.hf-bioenergetik.de
X-WR-CALDESC:Veranstaltungen für HF-Bioenergetik
BEGIN:VTIMEZONE
TZID:Europe/Helsinki
BEGIN:DAYLIGHT
TZOFFSETFROM:+0200
TZOFFSETTO:+0300
TZNAME:EEST
DTSTART:20210328T010000
END:DAYLIGHT
BEGIN:STANDARD
TZOFFSETFROM:+0300
TZOFFSETTO:+0200
TZNAME:EET
DTSTART:20211031T010000
END:STANDARD
END:VTIMEZONE
BEGIN:VEVENT
DTSTART;TZID=Europe/Helsinki:20210703T100000
DTEND;TZID=Europe/Helsinki:20210704T163000
DTSTAMP:20210720T161001
CREATED:20180803T190018Z
LAST-MODIFIED:20201127T125622Z
UID:5062-1625306400-1625416200@www.hf-bioenergetik.de
SUMMARY:HF-Biomassage Regulation Teil-3
DESCRIPTION:
URL:https://www.hf-bioenergetik.de/ausbildung/hfbiomassage-regulation/
LOCATION:München\, Max-Planck-Str. 4\, München\, Bayern\, 85609\, Deutschland
CATEGORIES:Basic
END:VEVENT
BEGIN:VEVENT
DTSTART;TZID=Europe/Helsinki:20210703T100000
DTEND;TZID=Europe/Helsinki:20210704T163000
DTSTAMP:20210720T161001
CREATED:20201125T172112Z
LAST-MODIFIED:20210506T152632Z
UID:6201-1625306400-1625416200@www.hf-bioenergetik.de
SUMMARY:HF-BioMassage Relaxion
DESCRIPTION:
URL:https://www.hf-bioenergetik.de/ausbildung/hf-biomassage-relaxion/
LOCATION:München\, Max-Planck-Str. 4\, München\, Bayern\, 85609\, Deutschland
CATEGORIES:Basic
END:VEVENT
BEGIN:VEVENT
DTSTART;TZID=Europe/Helsinki:20210710T100000
DTEND;TZID=Europe/Helsinki:20210710T163000
DTSTAMP:20210720T161001
CREATED:20191028T114935Z
LAST-MODIFIED:20210506T152719Z
UID:5650-1625911200-1625934600@www.hf-bioenergetik.de
SUMMARY:HF-Biomassage Bandscheibe-Niere
DESCRIPTION:Diese ganz besondere Behandlungsform stimuliert und aktiviert den Stoffwechsel. Der Körper kann sich besser entgiften und entschlacken. Die Behandlung regt die Nieren- und Blasen-Funktion an\, die Zellstruktur und die Zellspannung werden wieder in Kohärenz gebracht. Gleichzeitig wird der Rücken gelockert und tief entspannt. Somit können Energieströme den ganzen Körper besser und kanalisierter durchlaufen. Dies bedeutet eine Stärkung des Rückens und der Bandscheiben. Diese spezielle HFBioMassage bewirkt eine sofortige Linderung von Beschwerden bei Nieren- und Bandscheiben-Problematiken.
URL:https://www.hf-bioenergetik.de/ausbildung/hf-biomassage-bandscheibe-niere/
LOCATION:München\, Max-Planck-Str. 4\, München\, Bayern\, 85609\, Deutschland
CATEGORIES:Spezialisierung
END:VEVENT
BEGIN:VEVENT
DTSTART;TZID=Europe/Helsinki:20210711T100000
DTEND;TZID=Europe/Helsinki:20210711T163000
DTSTAMP:20210720T161001
CREATED:20191028T115014Z
LAST-MODIFIED:20210506T152757Z
UID:5652-1625997600-1626021000@www.hf-bioenergetik.de
SUMMARY:HF-Biomassage Herzbalance und Atembeschwerden
DESCRIPTION:Das Herz ist der Grundstock Ihres Lebens. Ein wunderbares Fenster zur Seele\, von der alles Leben abhängt und das alle Frische und Kraft ausstrahlt. Durch den speziell festgelegten Behandlungsablauf der HF-Bio-Herzmassage Balance und deren Grifffolge können wir gezielt auf das Herz- und Kreislauf-System eingehen\, beruhigen\, regenerieren und kräftigen. Höhere Vitalität und Leistungskraft sowie Burnoutprävention und Stressreduktion wird durch Nutzung der Herzintelligenz erzielt. \nDauer \nAusbildungsumfang : 1 Tag \n 
URL:https://www.hf-bioenergetik.de/ausbildung/hf-biomassage-herzbalance/
LOCATION:München\, Max-Planck-Str. 4\, München\, Bayern\, 85609\, Deutschland
CATEGORIES:Spezialisierung
END:VEVENT
BEGIN:VEVENT
DTSTART;TZID=Europe/Helsinki:20210717T080000
DTEND;TZID=Europe/Helsinki:20210718T163000
DTSTAMP:20210720T161001
CREATED:20200813T095253Z
LAST-MODIFIED:20210506T152829Z
UID:5930-1626508800-1626625800@www.hf-bioenergetik.de
SUMMARY:HF-Biomassage Anti-Aging
DESCRIPTION:Die HFBioenergetik entwickelt neuartige und aus der jüngsten Forschung der Neuro-Biophysik eigenständige Behandlungs- und Anwendungsmethoden speziell zur Behandlung von psychosomatischen Krankheiten\, für die Leistungssteigerung und Vitalität des Körpers sowie präventive Maßnahmen im Gesundheits- und Wellness-Bereich. Sie beruht auf einer 21-jährigen Entwicklung und praktischen Erfahrung des Biophysikers Hartmut Fraas. \nHF Bioenergetik ist die erste Adresse für die neuen Behandlungen und Anwendungsmethoden aus der Neuro-Biophysik zur Erholung und Prävention im Gesundheits-\, Medizin-\, Therapie- sowie Spa- und Wellnessbereich.
URL:https://www.hf-bioenergetik.de/ausbildung/hf-biomassage-anti-aging-3/
LOCATION:München\, Max-Planck-Str. 4\, München\, Bayern\, 85609\, Deutschland
CATEGORIES:Spezialisierung
END:VEVENT
BEGIN:VEVENT
DTSTART;TZID=Europe/Helsinki:20210724T100000
DTEND;TZID=Europe/Helsinki:20210725T163000
DTSTAMP:20210720T161001
CREATED:20190614T085132Z
LAST-MODIFIED:20201127T125513Z
UID:5530-1627120800-1627230600@www.hf-bioenergetik.de
SUMMARY:HF-Biomassage bei Krebs
DESCRIPTION:Durch diese sehr sanfte Massage wird die Brust mit dem gesamten Körper in eine innere Balance versetzt. Dadurch wird die Psyche gestärkt und die Klienten bekommen ein höheres Vertrauen zu sich selbst. Das kollektive Unterbewusstsein bzw. die limbische Ebene wird in Einklang gebracht\, so dass die Abwehrmechanismen und das Immunsystem verstärkt aktiv werden können. So werden alle medizinischen und therapeutischen Maßnahmen vom Körper besser verarbeitet und zeigen eine höhere Wirkung.
URL:https://www.hf-bioenergetik.de/ausbildung/hf-biomassage-bei-krebs/
LOCATION:München\, Max-Planck-Str. 4\, München\, Bayern\, 85609\, Deutschland
CATEGORIES:Spezialisierung
END:VEVENT
BEGIN:VEVENT
DTSTART;TZID=Europe/Helsinki:20210724T100000
DTEND;TZID=Europe/Helsinki:20210725T163000
DTSTAMP:20210720T161001
CREATED:20190614T090028Z
LAST-MODIFIED:20210506T152900Z
UID:5537-1627120800-1627230600@www.hf-bioenergetik.de
SUMMARY:HF-Hypernetik bei Krebs
DESCRIPTION:Durch diese sehr sanfte Massage wird die Brust mit dem gesamten Körper in eine innere Balance versetzt. Dadurch wird die Psyche gestärkt und die Klienten bekommen ein höheres Vertrauen zu sich selbst. Das kollektive Unterbewusstsein bzw. die limbische Ebene wird in Einklang gebracht\, so dass die Abwehrmechanismen und das Immunsystem verstärkt aktiv werden können. So werden alle medizinischen und therapeutischen Maßnahmen vom Körper besser verarbeitet und zeigen eine höhere Wirkung.
URL:https://www.hf-bioenergetik.de/ausbildung/hf-hypernetik-bei-krebs-2/
LOCATION:München\, Max-Planck-Str. 4\, München\, Bayern\, 85609\, Deutschland
CATEGORIES:Spezialisierung
END:VEVENT
END:VCALENDAR